BEGIN:VCALENDAR
VERSION:2.0
PRODID:-//wp-events-plugin.com//6.4.10.2//EN
BEGIN:VEVENT
UID:186@pedrofon.hu
DTSTART:20260528T201500Z
DTEND:20260528T234500Z
DTSTAMP:20260423T213704Z
URL:https://pedrofon.hu/events/szeged-borfesztival/
SUMMARY:Szeged Borfesztivál
DESCRIPTION:
END:VEVENT
END:VCALENDAR