BEGIN:VCALENDAR
VERSION:2.0
PRODID:-//wp-events-plugin.com//6.4.10.2//EN
BEGIN:VEVENT
UID:181@pedrofon.hu
DTSTART:20260501T190000Z
DTEND:20260501T210000Z
DTSTAMP:20260423T212534Z
URL:https://pedrofon.hu/events/pocsmegyeri-majalis/
SUMMARY:Pócsmegyeri Majális
DESCRIPTION:Kossuth út 27. \, Pócsmegyer
END:VEVENT
END:VCALENDAR