BEGIN:VCALENDAR
VERSION:2.0
PRODID:-//wp-events-plugin.com//6.4.10.2//EN
BEGIN:VEVENT
UID:180@pedrofon.hu
DTSTART:20260424T213000Z
DTEND:20260424T230000Z
DTSTAMP:20260423T212253Z
URL:https://pedrofon.hu/events/old-time-feszt-kaskantyu/
SUMMARY:Old Time Feszt Kaskantyú
DESCRIPTION:\n\n\n\n\n6211\, Kaskantyú\, Rendezvényterület\n\n\n\n\n\nAz
  ország első több megállós retro fesztiváljának első helyszíne: K
 ASKANTYÚ.\n\n\nAz előadók listája:REPUBLICGROOVEHOUSEDR. BRSÁMOKFUTÓ
 KABBA SISTERSPEDROFONELVIS SHOWDJ WICKSILVERDJ KECSADJ DAMADJ TÓTH\n\n
END:VEVENT
END:VCALENDAR