BEGIN:VCALENDAR
VERSION:2.0
PRODID:-//wp-events-plugin.com//6.4.10.2//EN
BEGIN:VEVENT
UID:183@pedrofon.hu
DTSTART:20260517T190000Z
DTEND:20260517T220000Z
DTSTAMP:20260423T213046Z
URL:https://pedrofon.hu/events/margitsziget-wonder-island-17/
SUMMARY:Margitsziget Wonder Island
DESCRIPTION:1138 Budapest\, Gasztro sétány\n\nAsztalfoglalás: 06 70 6583
 595
END:VEVENT
END:VCALENDAR