BEGIN:VCALENDAR
VERSION:2.0
PRODID:-//wp-events-plugin.com//6.4.10.2//EN
BEGIN:VEVENT
UID:187@pedrofon.hu
DTSTART:20260530T150000Z
DTEND:20260530T170000Z
DTSTAMP:20260423T213748Z
URL:https://pedrofon.hu/events/kisnemedi/
SUMMARY:Kisnémedi
DESCRIPTION:
END:VEVENT
END:VCALENDAR