BEGIN:VCALENDAR
VERSION:2.0
PRODID:-//wp-events-plugin.com//6.4.10.2//EN
BEGIN:VEVENT
UID:184@pedrofon.hu
DTSTART:20260521T180000Z
DTEND:20260521T210000Z
DTSTAMP:20260423T213311Z
URL:https://pedrofon.hu/events/eotvos10-5/
SUMMARY:Eötvös10
DESCRIPTION:\n\n\n\n\n\n\n\n\n\n\n\n\n\nEötvös utca 10.\, Budapest\, Hung
 ary\, 1067\n\n\n
END:VEVENT
END:VCALENDAR