BEGIN:VCALENDAR
VERSION:2.0
PRODID:-//wp-events-plugin.com//6.4.10.2//EN
BEGIN:VEVENT
UID:185@pedrofon.hu
DTSTART:20260523T180000Z
DTEND:20260523T210000Z
DTSTAMP:20260423T213613Z
URL:https://pedrofon.hu/events/devavanya-fust-es-tuz-fesztival/
SUMMARY:Dévaványa Füst és Tűz Fesztivál
DESCRIPTION:Dévaványa Rendezvénytér
END:VEVENT
END:VCALENDAR