BEGIN:VCALENDAR
VERSION:2.0
PRODID:-//wp-events-plugin.com//6.4.10.2//EN
BEGIN:VEVENT
UID:182@pedrofon.hu
DTSTART:20260508T193000Z
DTEND:20260508T223000Z
DTSTAMP:20260423T212809Z
URL:https://pedrofon.hu/events/angyalfoldi-jozsef-attila-muvelodesi-kozpon
 t-16/
SUMMARY:Angyalföldi József Attila Művelődési Központ
DESCRIPTION:1131 Budapest\, József Attila tér 4.\n\nEz alkalommal a legen
 dás együttes slágerei lesznek a középpontban\, tisztelegve ezzel is a
  közelmúltban eltávozott Fenyő Miklós emléke előtt. Hazánk egyik l
 egkedveltebb rock and roll zenekarának műsorán szerepelnek az ’50-es\
 , ’60-as évek rock and roll slágerei\, a Hungária örökzöldektől a
  Komár László nótákig. Sőt a ’30-as\, ’40-es évek swing világ
 át is felidézik\, de feldolgozzák a hozzájuk közel álló közelmúlt
 béli számokat is.\n\nBelépődíj: Sétálójegy: 2500 Ft\, Asztalos je
 gy: 3000 Ft.\n\nXIII. Kerületi Kártyával 20% kedvezményt biztosítunk 
 a helyszínen a belépőjegy árából.\n\nJegyek a helyszínen vagy a kul
 t13.jegy.hu internetes oldalon válthatók.\n\nAsztalfoglalás kizárólag
  online a kult13.jegy.hu oldalon vagy elővételben\, személyesen a helys
 zínen lehetséges!
END:VEVENT
END:VCALENDAR